BEGIN:VCALENDAR
VERSION:2.0
PRODID:-//wp-events-plugin.com//7.2.3.1//EN
TZID:Europe/Warsaw
X-WR-TIMEZONE:Europe/Warsaw
BEGIN:VEVENT
UID:3-1118@rcre.opolskie.pl
DTSTART;TZID=Europe/Warsaw:20260408T170000
DTEND;TZID=Europe/Warsaw:20260408T193000
DTSTAMP:20260402T093237Z
URL:https://rcre.opolskie.pl/events/zajecie-pokazowo-naukowe-popoludniowe-
 paka-bystrzaka-zaczarowane-urodziny/
SUMMARY:Zajęcie pokazowo-naukowe popołudniowe "Paka Bystrzaka/Zaczarowane
  Urodziny"
DESCRIPTION:Centrum Nauki i Eksperymentu „Zaczarowany Świat“\, Justyna
  Poteralska\, j.poteralska@oce.opolskie.pl\, +48 77 443 28 68\nZajęcie po
 kazowo-naukowe popołudniowe "Paka Bystrzaka/Zaczarowane Urodziny" wg. pro
 gramu na rok szkoły 2025/2026
LOCATION:Centrum Nauki i Eksperymentu "Zaczarowany Świat"\, ul. Dubois 36\
 , Dubois 36\, Opole\, 45-067\, Poland
X-APPLE-STRUCTURED-LOCATION;VALUE=URI;X-ADDRESS=Dubois 36\, Opole\, 45-067\
 , Poland;X-APPLE-RADIUS=100;X-TITLE=Centrum Nauki i Eksperymentu \"Zaczaro
 wany Świat\"\, ul. Dubois 36:geo:0,0
END:VEVENT
BEGIN:VTIMEZONE
TZID:Europe/Warsaw
X-LIC-LOCATION:Europe/Warsaw
BEGIN:DAYLIGHT
DTSTART:20260329T030000
TZOFFSETFROM:+0100
TZOFFSETTO:+0200
TZNAME:CEST
END:DAYLIGHT
END:VTIMEZONE
END:VCALENDAR