BEGIN:VCALENDAR
VERSION:2.0
PRODID:-//wp-events-plugin.com//7.2.3.1//EN
TZID:Europe/Warsaw
X-WR-TIMEZONE:Europe/Warsaw
BEGIN:VEVENT
UID:3-1126@rcre.opolskie.pl
DTSTART;TZID=Europe/Warsaw:20260409T151500
DTEND;TZID=Europe/Warsaw:20260409T181500
DTSTAMP:20260402T093742Z
URL:https://rcre.opolskie.pl/events/wykorzystanie-sztucznej-inteligencji-d
 o-przygotowania-materialow-dydaktycznych-12/
SUMMARY:Wykorzystanie sztucznej inteligencji do przygotowania materiałów 
 dydaktycznych
DESCRIPTION:Pracownia Wspomagania Szkół\, Renata Najwer\, r.najwer@oce.op
 olskie.pl\, +48 77 404 75 75\nBronisława Niespor Wykorzystanie sztucznej 
 inteligencji do przygotowania materiałów dydaktycznych\nWDN\, szkolenie 
 dla nauczycieli PSP w Szczedrzyku
END:VEVENT
BEGIN:VTIMEZONE
TZID:Europe/Warsaw
X-LIC-LOCATION:Europe/Warsaw
BEGIN:DAYLIGHT
DTSTART:20260329T030000
TZOFFSETFROM:+0100
TZOFFSETTO:+0200
TZNAME:CEST
END:DAYLIGHT
END:VTIMEZONE
END:VCALENDAR