BEGIN:VCALENDAR
VERSION:2.0
PRODID:-//wp-events-plugin.com//7.2.3.1//EN
TZID:Europe/Warsaw
X-WR-TIMEZONE:Europe/Warsaw
BEGIN:VEVENT
UID:3-1135@rcre.opolskie.pl
DTSTART;TZID=Europe/Warsaw:20260420T150000
DTEND;TZID=Europe/Warsaw:20260420T180000
DTSTAMP:20260402T094405Z
URL:https://rcre.opolskie.pl/events/testy-quizy-na-lekcjach-bez-smartfonow
 -inteligentna-klasa-classwise-2/
SUMMARY:Testy\, quizy na lekcjach bez smartfonów - Inteligentna klasa (Cla
 sswise)
DESCRIPTION:Pracownia Wspomagania Szkół\, Renata Najwer\, r.najwer@oce.op
 olskie.pl\, +48 77 404 75 75\nWojciech Błaszczyk Testy\, quizy na lekcjac
 h bez smartfonów - Inteligentna Klasa (Classwise)\n\nWDN\, zajęcia dla n
 auczycieli ZSP Nr 1 w Prudniku
END:VEVENT
BEGIN:VTIMEZONE
TZID:Europe/Warsaw
X-LIC-LOCATION:Europe/Warsaw
BEGIN:DAYLIGHT
DTSTART:20260329T030000
TZOFFSETFROM:+0100
TZOFFSETTO:+0200
TZNAME:CEST
END:DAYLIGHT
END:VTIMEZONE
END:VCALENDAR