BEGIN:VCALENDAR
VERSION:2.0
PRODID:-//wp-events-plugin.com//7.2.3.1//EN
TZID:Europe/Warsaw
X-WR-TIMEZONE:Europe/Warsaw
BEGIN:VEVENT
UID:3-1122@rcre.opolskie.pl
DTSTART;TZID=Europe/Warsaw:20260423T150000
DTEND;TZID=Europe/Warsaw:20260423T180000
DTSTAMP:20260402T093457Z
URL:https://rcre.opolskie.pl/events/swiatowe-dni-autyzmu/
SUMMARY:Światowe Dni Autyzmu
DESCRIPTION:Pracownia Kształcenia Zawodowego i Doradztwa Zawodowego\, Miec
 zysław Biel\, m.biel@oce.opolskie.pl\, +48 77 404 75 84\nSeminarium dr Ew
 eliny Policińskiej w ramach Światowych Dni Autyzmu\nZespół Szkół Med
 ycznych w Brzegu i PBW Brzeg
END:VEVENT
BEGIN:VTIMEZONE
TZID:Europe/Warsaw
X-LIC-LOCATION:Europe/Warsaw
BEGIN:DAYLIGHT
DTSTART:20260329T030000
TZOFFSETFROM:+0100
TZOFFSETTO:+0200
TZNAME:CEST
END:DAYLIGHT
END:VTIMEZONE
END:VCALENDAR