BEGIN:VCALENDAR
VERSION:2.0
PRODID:-//wp-events-plugin.com//7.2.3.1//EN
TZID:Europe/Warsaw
X-WR-TIMEZONE:Europe/Warsaw
BEGIN:VEVENT
UID:3-282@rcre.opolskie.pl
DTSTART;TZID=Europe/Warsaw:20250225T100000
DTEND;TZID=Europe/Warsaw:20250225T130000
DTSTAMP:20250204T092143Z
URL:https://rcre.opolskie.pl/events/obserwacja-zajec/
SUMMARY:Obserwacja zajęć
DESCRIPTION:Konferencja dla dyrektorów szkół\, przedszkoli\, placówek o
 światowych województwa opolskiego organizowana we współpracy z Opolski
 m Kuratorem Oświaty.
LOCATION:Regionalne Centrum Rozwoju Edukacji\, ul. Głogowska 27\, Głogows
 ka 27\, Opole\, 45-315\, Poland
X-APPLE-STRUCTURED-LOCATION;VALUE=URI;X-ADDRESS=Głogowska 27\, Opole\, 45-
 315\, Poland;X-APPLE-RADIUS=100;X-TITLE=Regionalne Centrum Rozwoju Edukacj
 i\, ul. Głogowska 27:geo:0,0
END:VEVENT
BEGIN:VTIMEZONE
TZID:Europe/Warsaw
X-LIC-LOCATION:Europe/Warsaw
BEGIN:STANDARD
DTSTART:20241027T020000
TZOFFSETFROM:+0200
TZOFFSETTO:+0100
TZNAME:CET
END:STANDARD
END:VTIMEZONE
END:VCALENDAR