BEGIN:VCALENDAR
VERSION:2.0
PRODID:-//wp-events-plugin.com//7.2.3.1//EN
TZID:Europe/Warsaw
X-WR-TIMEZONE:Europe/Warsaw
BEGIN:VEVENT
UID:3-291@rcre.opolskie.pl
DTSTART;TZID=Europe/Warsaw:20250225T153000
DTEND;TZID=Europe/Warsaw:20250225T183000
DTSTAMP:20250204T093414Z
URL:https://rcre.opolskie.pl/events/canva-dla-nauczycieli-2/
SUMMARY:Canva dla nauczycieli
DESCRIPTION:Warsztaty dla nauczycieli PSP w Tarnowie Opolskim
END:VEVENT
BEGIN:VTIMEZONE
TZID:Europe/Warsaw
X-LIC-LOCATION:Europe/Warsaw
BEGIN:STANDARD
DTSTART:20241027T020000
TZOFFSETFROM:+0200
TZOFFSETTO:+0100
TZNAME:CET
END:STANDARD
END:VTIMEZONE
END:VCALENDAR