BEGIN:VCALENDAR
VERSION:2.0
PRODID:-//wp-events-plugin.com//7.2.3.1//EN
TZID:Europe/Warsaw
X-WR-TIMEZONE:Europe/Warsaw
BEGIN:VEVENT
UID:3-1128@rcre.opolskie.pl
DTSTART;TZID=Europe/Warsaw:20260427T144500
DTEND;TZID=Europe/Warsaw:20260427T174500
DTSTAMP:20260402T093912Z
URL:https://rcre.opolskie.pl/events/canva-dla-edukacji-praktyczne-pomysly-
 na-wykorzystanie-w-edukacji/
SUMMARY:Canva dla edukacji – praktyczne pomysły na wykorzystanie w eduka
 cji
DESCRIPTION:Pracownia Wspomagania Szkół\, Renata Najwer\, r.najwer@oce.op
 olskie.pl\, +48 77 404 75 75\nBronisława Niespor Canva dla edukacji – p
 raktyczne pomysły na wykorzystanie w edukacji\nWDN\, zajęcia dla nauczyc
 ieli SP w Lipowej
END:VEVENT
BEGIN:VTIMEZONE
TZID:Europe/Warsaw
X-LIC-LOCATION:Europe/Warsaw
BEGIN:DAYLIGHT
DTSTART:20260329T030000
TZOFFSETFROM:+0100
TZOFFSETTO:+0200
TZNAME:CEST
END:DAYLIGHT
END:VTIMEZONE
END:VCALENDAR